BEGIN:VCALENDAR
VERSION:2.0
PRODID:-//King Edwards VI College - ECPv6.15.18//NONSGML v1.0//EN
CALSCALE:GREGORIAN
METHOD:PUBLISH
X-ORIGINAL-URL:https://kedst.ac.uk
X-WR-CALDESC:Events for King Edwards VI College
REFRESH-INTERVAL;VALUE=DURATION:PT1H
X-Robots-Tag:noindex
X-PUBLISHED-TTL:PT1H
BEGIN:VTIMEZONE
TZID:Europe/London
BEGIN:DAYLIGHT
TZOFFSETFROM:+0000
TZOFFSETTO:+0100
TZNAME:BST
DTSTART:20220327T010000
END:DAYLIGHT
BEGIN:STANDARD
TZOFFSETFROM:+0100
TZOFFSETTO:+0000
TZNAME:GMT
DTSTART:20221030T010000
END:STANDARD
BEGIN:DAYLIGHT
TZOFFSETFROM:+0000
TZOFFSETTO:+0100
TZNAME:BST
DTSTART:20230326T010000
END:DAYLIGHT
BEGIN:STANDARD
TZOFFSETFROM:+0100
TZOFFSETTO:+0000
TZNAME:GMT
DTSTART:20231029T010000
END:STANDARD
BEGIN:DAYLIGHT
TZOFFSETFROM:+0000
TZOFFSETTO:+0100
TZNAME:BST
DTSTART:20240331T010000
END:DAYLIGHT
BEGIN:STANDARD
TZOFFSETFROM:+0100
TZOFFSETTO:+0000
TZNAME:GMT
DTSTART:20241027T010000
END:STANDARD
END:VTIMEZONE
BEGIN:VEVENT
DTSTART;VALUE=DATE:20230501
DTEND;VALUE=DATE:20230502
DTSTAMP:20260424T120058
CREATED:20220810T120816Z
LAST-MODIFIED:20230501T092440Z
UID:10000138-1682899200-1682985599@kedst.ac.uk
SUMMARY:May day bank holiday college closed
DESCRIPTION:
URL:https://kedst.ac.uk/event/may-day-bank-holiday-college-closed/
CATEGORIES:College Event
END:VEVENT
BEGIN:VEVENT
DTSTART;TZID=Europe/London:20230503T190000
DTEND;TZID=Europe/London:20230503T210000
DTSTAMP:20260424T120058
CREATED:20220810T120816Z
LAST-MODIFIED:20230503T092439Z
UID:10000140-1683140400-1683147600@kedst.ac.uk
SUMMARY:Dance Show
DESCRIPTION:
URL:https://kedst.ac.uk/event/dance-show-2/
LOCATION:Hayley Hall
CATEGORIES:College Event
END:VEVENT
BEGIN:VEVENT
DTSTART;TZID=Europe/London:20230504T190000
DTEND;TZID=Europe/London:20230504T210000
DTSTAMP:20260424T120058
CREATED:20220810T120816Z
LAST-MODIFIED:20230504T092448Z
UID:10000139-1683226800-1683234000@kedst.ac.uk
SUMMARY:Dance Show
DESCRIPTION:
URL:https://kedst.ac.uk/event/dance-show/
LOCATION:Hayley Hall
CATEGORIES:College Event
END:VEVENT
BEGIN:VEVENT
DTSTART;TZID=Europe/London:20230508T190000
DTEND;TZID=Europe/London:20230508T210000
DTSTAMP:20260424T120058
CREATED:20220810T120816Z
LAST-MODIFIED:20230508T093942Z
UID:10000141-1683572400-1683579600@kedst.ac.uk
SUMMARY:Summer concert
DESCRIPTION:
URL:https://kedst.ac.uk/event/summer-concert/
CATEGORIES:College Event
END:VEVENT
BEGIN:VEVENT
DTSTART;VALUE=DATE:20230510
DTEND;VALUE=DATE:20230512
DTSTAMP:20260424T120058
CREATED:20220810T120817Z
LAST-MODIFIED:20230511T093937Z
UID:10000011-1683676800-1683849599@kedst.ac.uk
SUMMARY:Year 12 end of year exams
DESCRIPTION:
URL:https://kedst.ac.uk/event/year-12-end-of-year-exams/
CATEGORIES:College Event
END:VEVENT
BEGIN:VEVENT
DTSTART;VALUE=DATE:20230512
DTEND;VALUE=DATE:20230513
DTSTAMP:20260424T120058
CREATED:20220810T120816Z
LAST-MODIFIED:20230512T094011Z
UID:10000142-1683849600-1683935999@kedst.ac.uk
SUMMARY:Year 13 leavers event (condensed timetable)
DESCRIPTION:
URL:https://kedst.ac.uk/event/year-13-leavers-event-condensed-timetable/
CATEGORIES:College Event
END:VEVENT
BEGIN:VEVENT
DTSTART;VALUE=DATE:20230512
DTEND;VALUE=DATE:20230513
DTSTAMP:20260424T120058
CREATED:20220810T120816Z
LAST-MODIFIED:20230512T094010Z
UID:10000143-1683849600-1683935999@kedst.ac.uk
SUMMARY:Year 12 LiKE day - Study spaces open
DESCRIPTION:
URL:https://kedst.ac.uk/event/year-12-like-day/
CATEGORIES:College Event
END:VEVENT
BEGIN:VEVENT
DTSTART;VALUE=DATE:20230512
DTEND;VALUE=DATE:20230513
DTSTAMP:20260424T120058
CREATED:20230208T212249Z
LAST-MODIFIED:20230512T094010Z
UID:10000131-1683849600-1683935999@kedst.ac.uk
SUMMARY:Year 12 end of year exams (AM)
DESCRIPTION:
URL:https://kedst.ac.uk/event/year-12-end-of-year-exams-am/
CATEGORIES:College Event
END:VEVENT
BEGIN:VEVENT
DTSTART;VALUE=DATE:20230515
DTEND;VALUE=DATE:20230516
DTSTAMP:20260424T120058
CREATED:20230429T092507Z
LAST-MODIFIED:20230515T094026Z
UID:10000155-1684108800-1684195199@kedst.ac.uk
SUMMARY:Normal Year 13 teaching day
DESCRIPTION:
URL:https://kedst.ac.uk/event/normal-year-13-teaching-day/
CATEGORIES:College Event
END:VEVENT
BEGIN:VEVENT
DTSTART;VALUE=DATE:20230515
DTEND;VALUE=DATE:20230520
DTSTAMP:20260424T120058
CREATED:20220810T120817Z
LAST-MODIFIED:20230519T093942Z
UID:10000012-1684108800-1684540799@kedst.ac.uk
SUMMARY:Year 12 end of year exams
DESCRIPTION:
URL:https://kedst.ac.uk/event/year-12-end-of-year-exams-2/
CATEGORIES:College Event
END:VEVENT
BEGIN:VEVENT
DTSTART;VALUE=DATE:20230516
DTEND;VALUE=DATE:20230517
DTSTAMP:20260424T120058
CREATED:20220810T120817Z
LAST-MODIFIED:20230516T093955Z
UID:10000013-1684195200-1684281599@kedst.ac.uk
SUMMARY:Year 13 study leave begins
DESCRIPTION:
URL:https://kedst.ac.uk/event/year-13-study-leave-begins/
CATEGORIES:College Event
END:VEVENT
BEGIN:VEVENT
DTSTART;VALUE=DATE:20230529
DTEND;VALUE=DATE:20230530
DTSTAMP:20260424T120058
CREATED:20220810T120817Z
LAST-MODIFIED:20230522T101038Z
UID:10000015-1685318400-1685404799@kedst.ac.uk
SUMMARY:Late May bank holiday
DESCRIPTION:
URL:https://kedst.ac.uk/event/late-may-bank-holiday/
CATEGORIES:College Event
END:VEVENT
BEGIN:VEVENT
DTSTART;VALUE=DATE:20230529
DTEND;VALUE=DATE:20230603
DTSTAMP:20260424T120058
CREATED:20220810T120817Z
LAST-MODIFIED:20230522T101038Z
UID:10000014-1685318400-1685750399@kedst.ac.uk
SUMMARY:Half term
DESCRIPTION:
URL:https://kedst.ac.uk/event/half-term-3/
CATEGORIES:College Event
END:VEVENT
END:VCALENDAR